BEGIN:VCALENDAR
VERSION:2.0
PRODID:-//Élet Változtató Akadémia - ECPv6.15.18//NONSGML v1.0//EN
CALSCALE:GREGORIAN
METHOD:PUBLISH
X-WR-CALNAME:Élet Változtató Akadémia
X-ORIGINAL-URL:https://eletvaltoztatoakademia.hu
X-WR-CALDESC:Események Élet Változtató Akadémia
REFRESH-INTERVAL;VALUE=DURATION:PT1H
X-Robots-Tag:noindex
X-PUBLISHED-TTL:PT1H
BEGIN:VTIMEZONE
TZID:Europe/Budapest
BEGIN:DAYLIGHT
TZOFFSETFROM:+0100
TZOFFSETTO:+0200
TZNAME:CEST
DTSTART:20250330T010000
END:DAYLIGHT
BEGIN:STANDARD
TZOFFSETFROM:+0200
TZOFFSETTO:+0100
TZNAME:CET
DTSTART:20251026T010000
END:STANDARD
BEGIN:DAYLIGHT
TZOFFSETFROM:+0100
TZOFFSETTO:+0200
TZNAME:CEST
DTSTART:20260329T010000
END:DAYLIGHT
BEGIN:STANDARD
TZOFFSETFROM:+0200
TZOFFSETTO:+0100
TZNAME:CET
DTSTART:20261025T010000
END:STANDARD
BEGIN:DAYLIGHT
TZOFFSETFROM:+0100
TZOFFSETTO:+0200
TZNAME:CEST
DTSTART:20270328T010000
END:DAYLIGHT
BEGIN:STANDARD
TZOFFSETFROM:+0200
TZOFFSETTO:+0100
TZNAME:CET
DTSTART:20271031T010000
END:STANDARD
END:VTIMEZONE
BEGIN:VEVENT
DTSTART;TZID=Europe/Budapest:20260201T090000
DTEND;TZID=Europe/Budapest:20260201T170000
DTSTAMP:20260425T121918
CREATED:20251209T121334Z
LAST-MODIFIED:20251209T121334Z
UID:8983-1769936400-1769965200@eletvaltoztatoakademia.hu
SUMMARY:ANGYAL I. – "Angyali szikra" - Dr. Laborczy Gáborral - FEBRUÁR 01.
DESCRIPTION:ANGYAL 1. TANFOLYAM – „ANGYALI SZIKRA”  \nEz a tanfolyam az első lépés az angyalok felé.\n\n\nA tanuló:\n\nmegismeri az angyalok szerepét az emberi létezésben\,\nmegérti életfeladatainak okát\, így másként tekint életében előforduló nehézségekre és kihívásokra\,\nmegtanulja milyen angyalok vannak\, mi a feladatkörük és milyen szerepük van a mindennapi életünkben\,\nmegismeri azokat az angyalokat akikkel érdemes naponta kapcsolódni és azokat\, akiket jobb elkerülni\,\nbegyakorolja az angyalokkal való kapcsolatfelvétel egy hatékonyan ma is működő módszerét az angyali sigillum alkalmazásával\,\nfelismeri Jézus mai napig aktuális legfontosabb tanításait\,\nmegtanulja\, hogyan teheti a mindennapjai részévé tenni az angyalokkal való kapcsolatfelvételt\, hogyan kérhet segítséget céljainak eléréséhez\,\nlehetősége lesz egy angyali beavatáson keresztül közvetlenül megtapasztalni az angyalok jelenlétét és ezzel letenni azokat az életét hátráltató terheket\, melyek már nem szolgálják őt.\n\n\nA tanfolyam ára: 44.500 Ft\n\n\nHelyszín: Életváltoztató Akadémia 1053 Budapest\,  Szép utca 5. \n\n\nJelentkezés itt: \nDr. Laborczy Gábor \nNála lehet fizetni és jelentkezni is. \neletlaborsopron@gmail.com\n+36-70-7714-722 \n\nMaximum 12 főnek tud az É.V.A. helyet biztosítani\, tehát ne várj túl sokáig!!!\n\n\nA január 31-i és a február 01-i egynapos Angyal 1. képzés programja ugyanaz. Amíg a férőhely engedi\, lehet választani a két időpont között.\nVárjuk a jelentkezésedet!
URL:https://eletvaltoztatoakademia.hu/esemenyek/angyal-i-angyali-szikra-dr-laborczy-gaborral-februar-01/
LOCATION:Élet Változtató Akadémia\, Szép u. 5. 2/2.\, Budapest\, 1053
CATEGORIES:Workshop
ATTACH;FMTTYPE=image/jpeg:https://eletvaltoztatoakademia.hu/wp-content/uploads/2025/10/angyal-tanfolyami.jpg
END:VEVENT
BEGIN:VEVENT
DTSTART;TZID=Europe/Budapest:20260214T090000
DTEND;TZID=Europe/Budapest:20260214T170000
DTSTAMP:20260425T121918
CREATED:20251209T124710Z
LAST-MODIFIED:20251209T134436Z
UID:8985-1771059600-1771088400@eletvaltoztatoakademia.hu
SUMMARY:Reiki 1. fokozat – Dr. Laborczy Gáborral - FEBRUÁR 14.
DESCRIPTION:Reiki 1. fokozat – Tanfolyam Dr. Laborczy Gábor oktatóval! \nA Reiki egy könnyen elsajátítható\, Japánból elterjedt\, a test öngyógyító folyamatait támogató egyszerű és hatékony energetikai kezelő módszer. \nA Reiki kezelő nem a saját\, hanem az intelligens isteni eredetű energiával – vagyis a Reiki energiával – dolgozik\, amit testi és lelki harmonizálásra\, ezáltal az egészség megőrzésére és a test regeneráló folyamatainak megerősítésére lehet használni. \nA Reiki rendszeres alkalmazása segíthet nagyobb harmóniát\, kiegyensúlyozottságot elérni\, ellenállóbbá tehet a stresszel és a mindennapi kihívásokkal szemben. A Reiki segítségével önmagunkkal és másokkal való kapcsolatunk is harmonikusabbá\, szeretetteljesebbé és megértőbbé válhat. \nR.A.I. Reiki 1. fokozat\nA képzésen résztvevő megismeri: \n-a Reiki történetét\,\n-az emberi energiarendszer alapjait (aura\, csakrák\, energiaáramlatok)\,\n-a Reiki kezelés típusait és az alkalmazás alapvető szabályait\,\n-a Reiki 1. avatással képessé válik a belső energiacsatornák aktiválásával a reiki energia közvetítésére\, mely a saját energiaszint érezhető emelkedésével is járhat\,\n-elsajátítja a gyakorlatban az ön-\, fej-\, és társkezelés különböző Reikis formáit\,\n-az auraharmonizálás és csakratisztítás technikáját. \nArra kérlek\, ha kérdéseid vannak írj direkt Gábornak\, vagy hívd fel: \nDr. Laborczy Gábor\neletlaborsopron@gmail.com\n+36-70-7714-722 \nJelentkezni is nála tudsz! \nSzeretettel várunk! 
URL:https://eletvaltoztatoakademia.hu/esemenyek/reiki-1-fokozat-dr-laborczy-gaborral-februar-14/
LOCATION:Élet Változtató Akadémia\, Szép u. 5. 2/2.\, Budapest\, 1053
CATEGORIES:Workshop
ATTACH;FMTTYPE=image/jpeg:https://eletvaltoztatoakademia.hu/wp-content/uploads/2025/10/rai-reiki.jpg
END:VEVENT
END:VCALENDAR