BEGIN:VCALENDAR
VERSION:2.0
PRODID:-//Élet Változtató Akadémia - ECPv6.15.18//NONSGML v1.0//EN
CALSCALE:GREGORIAN
METHOD:PUBLISH
X-ORIGINAL-URL:https://eletvaltoztatoakademia.hu
X-WR-CALDESC:Események Élet Változtató Akadémia
REFRESH-INTERVAL;VALUE=DURATION:PT1H
X-Robots-Tag:noindex
X-PUBLISHED-TTL:PT1H
BEGIN:VTIMEZONE
TZID:Europe/Budapest
BEGIN:DAYLIGHT
TZOFFSETFROM:+0100
TZOFFSETTO:+0200
TZNAME:CEST
DTSTART:20240331T010000
END:DAYLIGHT
BEGIN:STANDARD
TZOFFSETFROM:+0200
TZOFFSETTO:+0100
TZNAME:CET
DTSTART:20241027T010000
END:STANDARD
BEGIN:DAYLIGHT
TZOFFSETFROM:+0100
TZOFFSETTO:+0200
TZNAME:CEST
DTSTART:20250330T010000
END:DAYLIGHT
BEGIN:STANDARD
TZOFFSETFROM:+0200
TZOFFSETTO:+0100
TZNAME:CET
DTSTART:20251026T010000
END:STANDARD
BEGIN:DAYLIGHT
TZOFFSETFROM:+0100
TZOFFSETTO:+0200
TZNAME:CEST
DTSTART:20260329T010000
END:DAYLIGHT
BEGIN:STANDARD
TZOFFSETFROM:+0200
TZOFFSETTO:+0100
TZNAME:CET
DTSTART:20261025T010000
END:STANDARD
BEGIN:DAYLIGHT
TZOFFSETFROM:+0100
TZOFFSETTO:+0200
TZNAME:CEST
DTSTART:20270328T010000
END:DAYLIGHT
BEGIN:STANDARD
TZOFFSETFROM:+0200
TZOFFSETTO:+0100
TZNAME:CET
DTSTART:20271031T010000
END:STANDARD
END:VTIMEZONE
BEGIN:VEVENT
DTSTART;TZID=Europe/Budapest:20260328T090000
DTEND;TZID=Europe/Budapest:20260328T170000
DTSTAMP:20260421T172054
CREATED:20260203T095804Z
LAST-MODIFIED:20260203T095804Z
UID:9216-1774688400-1774717200@eletvaltoztatoakademia.hu
SUMMARY:Angyal 2. – „Angyali fény!" - Dr. Laborczy Gábor - Március 28.
DESCRIPTION:ANGYAL II. – „Angyali fény” Dr. Laborczy Bábor oktatóval! \nA részvétel előfeltétele: az Angyal 1. fokozat elvégzése. \nA tanfolyamon a tanuló: \n✨ megtapasztalja\, hogy minden angyal\, akivel kapcsolatba lépett valamilyen formában üzenetet közvetít számára\, melyeket fogadva és megértve segíthetnek életét könnyebbé tenni\,\n✨ megismeri az ego és a felettes én és a hozzájuk való kapcsolódás szerepét\,\n✨ megtanulja megkülönböztetni az energetikai üzenetek küldőit\,\n✨ megtanulja az angyaloltár elkészítését mely megkönnyíti számára az angyalokkal való kapcsolódást és kialakít egy energetikailag feltöltött és védett helyet az angyalkommunikációhoz.\n✨ megtanulja az intuíciós angyalkártya kirakásával az angyali üzenetek értelmezését különböző élethelyzetekre.\n✨ kapcsolódik a saját egyéni fejlődéséhez szükséges sorrendben egymás után 7+49 angyalhoz.(a tanfolyamon elkezdve\, majd később otthon folytatva\, befejezve.) Ezzel az angyali beavatással képes lesz felismerni\, hogy hogyan tudja az angyalok segítségével megoldani a mindennapok során felmerülő problémáit\, elengedni a félelmeit és letenni a terheit és erősíteni az önértékelésé valamint megtapasztalni az angyalokkal való egységet.\n✨ megtanulja életviteli elakadásokban alkalmazni az „élet kulcsa” meditációt. \nA tanfolyam ára: 54 500 Ft. \n👉 Jelentkezni ezen a linken tudsz: https://eletlaborsopron.hu/angyal/ \n📌Arra kérlek\, ha kérdéseid vannak írj direkt Gábornak\, vagy hívd fel: \nDr. Laborczy Gábor\ndr.laborczy@gmail.com\n+36-70-7714-722
URL:https://eletvaltoztatoakademia.hu/esemenyek/angyal-2-angyali-feny-dr-laborczy-gabor-marcius-28/
LOCATION:Élet Változtató Akadémia\, Szép u. 5. 2/2.\, Budapest\, 1053
CATEGORIES:Workshop
ATTACH;FMTTYPE=image/jpeg:https://eletvaltoztatoakademia.hu/wp-content/uploads/2026/02/angyal.jpg
END:VEVENT
BEGIN:VEVENT
DTSTART;TZID=Europe/Budapest:20260214T090000
DTEND;TZID=Europe/Budapest:20260214T170000
DTSTAMP:20260421T172054
CREATED:20251209T124710Z
LAST-MODIFIED:20251209T134436Z
UID:8985-1771059600-1771088400@eletvaltoztatoakademia.hu
SUMMARY:Reiki 1. fokozat – Dr. Laborczy Gáborral - FEBRUÁR 14.
DESCRIPTION:Reiki 1. fokozat – Tanfolyam Dr. Laborczy Gábor oktatóval! \nA Reiki egy könnyen elsajátítható\, Japánból elterjedt\, a test öngyógyító folyamatait támogató egyszerű és hatékony energetikai kezelő módszer. \nA Reiki kezelő nem a saját\, hanem az intelligens isteni eredetű energiával – vagyis a Reiki energiával – dolgozik\, amit testi és lelki harmonizálásra\, ezáltal az egészség megőrzésére és a test regeneráló folyamatainak megerősítésére lehet használni. \nA Reiki rendszeres alkalmazása segíthet nagyobb harmóniát\, kiegyensúlyozottságot elérni\, ellenállóbbá tehet a stresszel és a mindennapi kihívásokkal szemben. A Reiki segítségével önmagunkkal és másokkal való kapcsolatunk is harmonikusabbá\, szeretetteljesebbé és megértőbbé válhat. \nR.A.I. Reiki 1. fokozat\nA képzésen résztvevő megismeri: \n-a Reiki történetét\,\n-az emberi energiarendszer alapjait (aura\, csakrák\, energiaáramlatok)\,\n-a Reiki kezelés típusait és az alkalmazás alapvető szabályait\,\n-a Reiki 1. avatással képessé válik a belső energiacsatornák aktiválásával a reiki energia közvetítésére\, mely a saját energiaszint érezhető emelkedésével is járhat\,\n-elsajátítja a gyakorlatban az ön-\, fej-\, és társkezelés különböző Reikis formáit\,\n-az auraharmonizálás és csakratisztítás technikáját. \nArra kérlek\, ha kérdéseid vannak írj direkt Gábornak\, vagy hívd fel: \nDr. Laborczy Gábor\neletlaborsopron@gmail.com\n+36-70-7714-722 \nJelentkezni is nála tudsz! \nSzeretettel várunk! 
URL:https://eletvaltoztatoakademia.hu/esemenyek/reiki-1-fokozat-dr-laborczy-gaborral-februar-14/
LOCATION:Élet Változtató Akadémia\, Szép u. 5. 2/2.\, Budapest\, 1053
CATEGORIES:Workshop
ATTACH;FMTTYPE=image/jpeg:https://eletvaltoztatoakademia.hu/wp-content/uploads/2025/10/rai-reiki.jpg
END:VEVENT
BEGIN:VEVENT
DTSTART;TZID=Europe/Budapest:20260201T090000
DTEND;TZID=Europe/Budapest:20260201T170000
DTSTAMP:20260421T172054
CREATED:20251209T121334Z
LAST-MODIFIED:20251209T121334Z
UID:8983-1769936400-1769965200@eletvaltoztatoakademia.hu
SUMMARY:ANGYAL I. – "Angyali szikra" - Dr. Laborczy Gáborral - FEBRUÁR 01.
DESCRIPTION:ANGYAL 1. TANFOLYAM – „ANGYALI SZIKRA”  \nEz a tanfolyam az első lépés az angyalok felé.\n\n\nA tanuló:\n\nmegismeri az angyalok szerepét az emberi létezésben\,\nmegérti életfeladatainak okát\, így másként tekint életében előforduló nehézségekre és kihívásokra\,\nmegtanulja milyen angyalok vannak\, mi a feladatkörük és milyen szerepük van a mindennapi életünkben\,\nmegismeri azokat az angyalokat akikkel érdemes naponta kapcsolódni és azokat\, akiket jobb elkerülni\,\nbegyakorolja az angyalokkal való kapcsolatfelvétel egy hatékonyan ma is működő módszerét az angyali sigillum alkalmazásával\,\nfelismeri Jézus mai napig aktuális legfontosabb tanításait\,\nmegtanulja\, hogyan teheti a mindennapjai részévé tenni az angyalokkal való kapcsolatfelvételt\, hogyan kérhet segítséget céljainak eléréséhez\,\nlehetősége lesz egy angyali beavatáson keresztül közvetlenül megtapasztalni az angyalok jelenlétét és ezzel letenni azokat az életét hátráltató terheket\, melyek már nem szolgálják őt.\n\n\nA tanfolyam ára: 44.500 Ft\n\n\nHelyszín: Életváltoztató Akadémia 1053 Budapest\,  Szép utca 5. \n\n\nJelentkezés itt: \nDr. Laborczy Gábor \nNála lehet fizetni és jelentkezni is. \neletlaborsopron@gmail.com\n+36-70-7714-722 \n\nMaximum 12 főnek tud az É.V.A. helyet biztosítani\, tehát ne várj túl sokáig!!!\n\n\nA január 31-i és a február 01-i egynapos Angyal 1. képzés programja ugyanaz. Amíg a férőhely engedi\, lehet választani a két időpont között.\nVárjuk a jelentkezésedet!
URL:https://eletvaltoztatoakademia.hu/esemenyek/angyal-i-angyali-szikra-dr-laborczy-gaborral-februar-01/
LOCATION:Élet Változtató Akadémia\, Szép u. 5. 2/2.\, Budapest\, 1053
CATEGORIES:Workshop
ATTACH;FMTTYPE=image/jpeg:https://eletvaltoztatoakademia.hu/wp-content/uploads/2025/10/angyal-tanfolyami.jpg
END:VEVENT
BEGIN:VEVENT
DTSTART;TZID=Europe/Budapest:20260131T090000
DTEND;TZID=Europe/Budapest:20260131T170000
DTSTAMP:20260421T172054
CREATED:20251209T120832Z
LAST-MODIFIED:20251209T120832Z
UID:8980-1769850000-1769878800@eletvaltoztatoakademia.hu
SUMMARY:ANGYAL I. – "Angyali szikra" - Dr. Laborczy Gáborral - JANUÁR 31.
DESCRIPTION:ANGYAL 1. TANFOLYAM – „ANGYALI SZIKRA”  \nEz a tanfolyam az első lépés az angyalok felé.\n\n\nA tanuló:\n\nmegismeri az angyalok szerepét az emberi létezésben\,\nmegérti életfeladatainak okát\, így másként tekint életében előforduló nehézségekre és kihívásokra\,\nmegtanulja milyen angyalok vannak\, mi a feladatkörük és milyen szerepük van a mindennapi életünkben\,\nmegismeri azokat az angyalokat akikkel érdemes naponta kapcsolódni és azokat\, akiket jobb elkerülni\,\nbegyakorolja az angyalokkal való kapcsolatfelvétel egy hatékonyan ma is működő módszerét az angyali sigillum alkalmazásával\,\nfelismeri Jézus mai napig aktuális legfontosabb tanításait\,\nmegtanulja\, hogyan teheti a mindennapjai részévé tenni az angyalokkal való kapcsolatfelvételt\, hogyan kérhet segítséget céljainak eléréséhez\,\nlehetősége lesz egy angyali beavatáson keresztül közvetlenül megtapasztalni az angyalok jelenlétét és ezzel letenni azokat az életét hátráltató terheket\, melyek már nem szolgálják őt.\n\n\nA tanfolyam ára: 44.500 Ft\n\n\nHelyszín: Életváltoztató Akadémia 1053 Budapest\,  Szép utca 5. \n\n\nJelentkezés itt: \nDr. Laborczy Gábor \nNála lehet fizetni és jelentkezni is. \neletlaborsopron@gmail.com\n+36-70-7714-722 \n\nMaximum 12 főnek tud az É.V.A. helyet biztosítani\, tehát ne várj túl sokáig!!!\n\n\nA január 31-i és a február 01-i egynapos Angyal 1. képzés programja ugyanaz. Amíg a férőhely engedi\, lehet választani a két időpont között.\nVárjuk a jelentkezésedet!
URL:https://eletvaltoztatoakademia.hu/esemenyek/angyal-i-angyali-szikra-dr-laborczy-gaborral-januar-31/
LOCATION:Élet Változtató Akadémia\, Szép u. 5. 2/2.\, Budapest\, 1053
CATEGORIES:Workshop
ATTACH;FMTTYPE=image/jpeg:https://eletvaltoztatoakademia.hu/wp-content/uploads/2025/10/angyal-tanfolyami.jpg
END:VEVENT
BEGIN:VEVENT
DTSTART;TZID=Europe/Budapest:20251026T090000
DTEND;TZID=Europe/Budapest:20251026T170000
DTSTAMP:20260421T172054
CREATED:20251007T082742Z
LAST-MODIFIED:20251007T083900Z
UID:8773-1761469200-1761498000@eletvaltoztatoakademia.hu
SUMMARY:Reiki 2. fokozat – Dr. Laborczy Gáborral
DESCRIPTION:Reiki 2. fokozat \nA reiki képzésen résztvevő az első tanfolyam anyagának rövid átismétlése után megismerkedik az energiakoncentrációt\, a mentális problémák  és a távkezelést lehetővé tevő reiki szimbólumokkal és azok alkalmazásának területeivel. \nMegtanulja a testben felhalmozódott toxikus anyagok feltérképezését és kezelését. \nAz avatással a reiki energia áramoltatása intenzívebbé válhat\, és ezáltal érezhetően tovább emelkedhet a tanuló saját rezgésszáma is. \nA tanfolyam elvégzése után a résztvevők megkapják a  tanfolyam elvégzését igazoló\, emléklapot. \nA részvétel előfeltétele: Reiki 1. fokozat elvégzése. \nA tanfolyam ára: 44 500 Ft.
URL:https://eletvaltoztatoakademia.hu/esemenyek/reiki-2-fokozat-dr-laborczy-gaborral/
LOCATION:Élet Változtató Akadémia\, Szép u. 5. 2/2.\, Budapest\, 1053
CATEGORIES:Workshop
ATTACH;FMTTYPE=image/jpeg:https://eletvaltoztatoakademia.hu/wp-content/uploads/2025/10/rai-reiki.jpg
END:VEVENT
BEGIN:VEVENT
DTSTART;TZID=Europe/Budapest:20251025T090000
DTEND;TZID=Europe/Budapest:20251025T170000
DTSTAMP:20260421T172054
CREATED:20251007T082135Z
LAST-MODIFIED:20251007T084238Z
UID:8768-1761382800-1761411600@eletvaltoztatoakademia.hu
SUMMARY:R.A.I. Angyalkommunikációs módszer 2. fokozat – Dr. Laborczy Gáborral
DESCRIPTION:ANGYAL II. – „a fény a te oldaladon” \nA részvétel előfeltétele: az Angyal I. fokozat elvégzése. \nA tanfolyam újabb lehetőségeket ad az angyalokkal való kapcsolat elmélyítésére. Különböző meditációk segítenek felismerni\, hogy milyen irányba akarnak vezetni bennünket az angyalok\, így még közelebb kerülhetünk hozzájuk. Kiderül\, hogy milyen speciális módokon tudnak segíteni spirituális fejlődésünkben. A tanfolyam elmélyíti a kapcsolatot az őrangyalunkkal\, aki így még erőteljesebben a mindennapjaink részévé válhat. Megtanulhatod az Atlantiszi Angyal tarot kirakását és ezzel életfeladatod jelenlegi helyzetét. Meditációkkal kapcsolódhatsz közvetlenül az angyalokhoz. Megtanulhatod az angyalgyertya készítését és megismerheted a mesterangyalokat. \nA tanfolyam elvégzése után a résztvevők megkapják a tanfolyam elvégzését igazoló\, R.A.I. központ által kiállított emléklapot. \nA részvétel előfeltétele: R.A.I. Angyalkommunikáció 1/B. fokozat elvégzése. \nA tanfolyam ára: 39 500 Ft. \nA tanfolyam anyaga F.E. Eckard Strohm: Atlantisz Mestertudása című könyvére épül (ára 6500.- Ft) melyet – ha van neked\, akkor hozd el\, ha nincs – megrendelheted a rai.hu honlapon\, vagy máshol\, de nálam is van készleten.
URL:https://eletvaltoztatoakademia.hu/esemenyek/r-a-i-angyalkommunikacios-modszer-2-fokozat-dr-laborczy-gaborral/
LOCATION:Élet Változtató Akadémia\, Szép u. 5. 2/2.\, Budapest\, 1053
CATEGORIES:Workshop
ATTACH;FMTTYPE=image/jpeg:https://eletvaltoztatoakademia.hu/wp-content/uploads/2025/10/angyal-kommunikacio.jpg
END:VEVENT
BEGIN:VEVENT
DTSTART;TZID=Europe/Budapest:20251024T090000
DTEND;TZID=Europe/Budapest:20251024T170000
DTSTAMP:20260421T172054
CREATED:20251006T123128Z
LAST-MODIFIED:20251007T084500Z
UID:8746-1761296400-1761325200@eletvaltoztatoakademia.hu
SUMMARY:ÚJ TANFOLYAM AZ ANGYALOKKAL! ANGYAL I. Tanfolyam – Dr. Laborczy Gáborral
DESCRIPTION:ANGYAL 1. TANFOLYAM – „ANGYALI SZIKRA” – MEGÚJULT TANFOLYAM!!!!! \nTalán már előfordult veled\, hogy úgy érezted: \n\nmost megzuhantál.\nnagyon nem jó semmi\,\nminden sötétben van\n… és akkor\,* megjelent egy csöppnyi támogatás\, egy parányi jó ötlet\, egy gondolat\, egy szikrányi fény\, ami éppen elég volt ahhoz\, hogy továbblendülj a holtponton\, kiemelkedj a nehéz helyzetből. Mintha valaki vigyázott volna rád\, tanácsot adott volna a számodra nehéz helyzetből. Ekkor valószínűleg segítettek az angyalok! És ha még kéred a őket\, akkor sokkal többet és többször tudnak segíteni\, hogy gyorsabban kikerülj\, vagy be se került ilyen nehéz helyzetekbe.\n\n  \nAz „Angyal 1. – Angyali szikra” című tanfolyamon ennek kérésnek a mindennapi gyakorlatát tanulhatod meg. Ha elvégzed a tanfolyamot és gyakorolod az ott tanultakat\, ezzel megteszed az első lépést az angyalok felé\, akik tíz lépést tesznek majd meg feléd. Az első lépés a Tiéd! \n  \nMit tanulhatsz a tanfolyamon? \n\nMegismerheted az angyalok szerepét az emberi létezésben\,\nmegértheted mi az életfeladataid\, így másként tekinthetsz az életedben előforduló kihívásokra\,\nmegtanulhatod\, milyen angyalok vannak\, mi a feladatkörük és milyen szerepük lehet a Te életedben\,\nmelyek azok az angyalok\, akikhez érdemes naponta kapcsolódni és kik azok\, akikkel ezt jobb elkerülni.\nbegyakorolhatod az angyalokkal való kapcsolatfelvétel egy hatékonyan ma is működő módszerét az angyali sigillum (pecsét\, jelkép\, szimbólum) alkalmazásával\,\nmegtanulhatod\, hogyan teheted a mindennapjaid részévé az angyalokkal való kapcsolatfelvételt\, és hogyan kérhetsz segítséget céljaid eléréséhez\,\nlehetőséged lesz egy utazásos meditációban leteheted az életedet hátráltató terheket\, melyek már nem szolgálják Téged. Melyhez személyes jelenlét szükséges!\n\n  \nA tanfolyam időtartama: 1 nap. \nA tanfolyam elvégzése után megkapod: \n\na tanfolyam anyagát tartalmazó jegyzetet\, és útmutatót az angyalokkal való kapcsolatfelvételhez\,\na tanfolyam elvégzését igazoló emléklapot.\n\nHelyszín: Budapest\, Életváltoztató Akadémia Szép utca 5. \nA tanfolyam ára: 44.500 Ft – Ismétlőként 5.000 Ft. \n  \nJelentkezés itt: \nDr. Laborczy Gábor \nNála lehet fizetni és jelentkezni is. \neletlaborsopron@gmail.com\n+36-70-7714-722 \nMaximum 12 főnek tud az É.V.A. helyet biztosítani\, tehát ne várj túl sokáig!!! \nVárjuk a jelentkezésedet!
URL:https://eletvaltoztatoakademia.hu/esemenyek/uj-tanfolyam-az-angyalokkal-angyal-i-tanfolyam-dr-laborczy-gaborral/
LOCATION:Élet Változtató Akadémia\, Szép u. 5. 2/2.\, Budapest\, 1053
CATEGORIES:Workshop
ATTACH;FMTTYPE=image/jpeg:https://eletvaltoztatoakademia.hu/wp-content/uploads/2025/10/angyal-tanfolyami.jpg
END:VEVENT
END:VCALENDAR