BEGIN:VCALENDAR
VERSION:2.0
PRODID:-//Élet Változtató Akadémia - ECPv6.15.18//NONSGML v1.0//EN
CALSCALE:GREGORIAN
METHOD:PUBLISH
X-ORIGINAL-URL:https://eletvaltoztatoakademia.hu
X-WR-CALDESC:Események Élet Változtató Akadémia
REFRESH-INTERVAL;VALUE=DURATION:PT1H
X-Robots-Tag:noindex
X-PUBLISHED-TTL:PT1H
BEGIN:VTIMEZONE
TZID:Europe/Budapest
BEGIN:DAYLIGHT
TZOFFSETFROM:+0100
TZOFFSETTO:+0200
TZNAME:CEST
DTSTART:20250330T010000
END:DAYLIGHT
BEGIN:STANDARD
TZOFFSETFROM:+0200
TZOFFSETTO:+0100
TZNAME:CET
DTSTART:20251026T010000
END:STANDARD
BEGIN:DAYLIGHT
TZOFFSETFROM:+0100
TZOFFSETTO:+0200
TZNAME:CEST
DTSTART:20260329T010000
END:DAYLIGHT
BEGIN:STANDARD
TZOFFSETFROM:+0200
TZOFFSETTO:+0100
TZNAME:CET
DTSTART:20261025T010000
END:STANDARD
BEGIN:DAYLIGHT
TZOFFSETFROM:+0100
TZOFFSETTO:+0200
TZNAME:CEST
DTSTART:20270328T010000
END:DAYLIGHT
BEGIN:STANDARD
TZOFFSETFROM:+0200
TZOFFSETTO:+0100
TZNAME:CET
DTSTART:20271031T010000
END:STANDARD
END:VTIMEZONE
BEGIN:VEVENT
DTSTART;TZID=Europe/Budapest:20260505T180000
DTEND;TZID=Europe/Budapest:20260505T200000
DTSTAMP:20260425T153842
CREATED:20260421T112755Z
LAST-MODIFIED:20260421T112755Z
UID:9958-1778004000-1778011200@eletvaltoztatoakademia.hu
SUMMARY:INGYENES WEBINÁR - CSALÁDÁLLÍTÓ LURDY NAP - MÁJUS 05.
DESCRIPTION:INGYENES WEBINÁRIUM – Lehet\, hogy nem is a saját életedet éled?\nVolt már olyan érzésed\, hogy hiába próbálsz változtatni… valahogy mégis ugyanoda jutsz vissza? Más ember\, más helyzet\, mégis ugyanaz a vége. Ugyanaz az érzés\, ugyanaz a csalódás\, ugyanaz a kör. És egy idő után már nem érted… mit rontasz el. \nPedig lehet\, hogy nem ott keresed a választ\, ahol kellene.Mert a legtöbben rögtön megoldani akarják a helyzetet. Kilépni\, változtatni\, jobban csinálni. De az első lépés nem ez. \nAz első lépés az\, hogy felismerd\, mi ismétlődik benned. Milyen minták működnek a háttérben. Mik azok a megszokott reakciók\, amik „úgy maradtak”\, és észrevétlenül irányítanak.\nÉs ami sokakat megdöbbent…mi van\, ha ezek közül nem is mind a tied? \n\n\nErről fogok beszélni egy INGYENES\, ÉLŐ WEBINÁRIUMON\, ahol hétköznapi példákon keresztül segítek meglátni azokat az ismétlődő mintákat\, amik visszatartanak\, és amiket egyedül sokszor egyszerűen nem veszünk észre.\n\n 2026. május 5. (kedd) 18:00 Online\, Zoomon – otthonról\nEz a webinárium a GENERÁCIÓS SORSOK – Családállítás Nap (Lurdy) előadása előtt lesz\, de már itt elindulhat benned a változás. Egy felismerés. Egy „aha”. Az a pont\, amikor hirtelen összeáll a kép… és már nem ugyanúgy nézel rá az életedre.És néha ennyi elég ahhoz\, hogy minden elkezdjen megváltozni. \n Regisztrálj itt: https://eletvaltoztatoakademia.hu/csaladallitas-nap-webinar/\nOnline ZOOM közvetítés lesz\, csatlakozást a regisztráltaknak fogjuk emailben kiküldeni az esemény napján! \n  \n\n\nHamarosan találkozunk az ONLINE térben! \n  \nSzeretettel üdvözöllek\, Évi
URL:https://eletvaltoztatoakademia.hu/esemenyek/ingyenes-webinar-csaladallito-lurdy-nap-majus-05/
LOCATION:Élet Változtató Akadémia\, Szép u. 5. 2/2.\, Budapest\, 1053
CATEGORIES:Családállítás
ATTACH;FMTTYPE=image/jpeg:https://eletvaltoztatoakademia.hu/wp-content/uploads/2026/04/lurdy-nap-webinarium.jpg
END:VEVENT
END:VCALENDAR