BEGIN:VCALENDAR
VERSION:2.0
PRODID:-//Élet Változtató Akadémia - ECPv6.15.18//NONSGML v1.0//EN
CALSCALE:GREGORIAN
METHOD:PUBLISH
X-ORIGINAL-URL:https://eletvaltoztatoakademia.hu
X-WR-CALDESC:Események Élet Változtató Akadémia
REFRESH-INTERVAL;VALUE=DURATION:PT1H
X-Robots-Tag:noindex
X-PUBLISHED-TTL:PT1H
BEGIN:VTIMEZONE
TZID:Europe/Budapest
BEGIN:DAYLIGHT
TZOFFSETFROM:+0100
TZOFFSETTO:+0200
TZNAME:CEST
DTSTART:20250330T010000
END:DAYLIGHT
BEGIN:STANDARD
TZOFFSETFROM:+0200
TZOFFSETTO:+0100
TZNAME:CET
DTSTART:20251026T010000
END:STANDARD
BEGIN:DAYLIGHT
TZOFFSETFROM:+0100
TZOFFSETTO:+0200
TZNAME:CEST
DTSTART:20260329T010000
END:DAYLIGHT
BEGIN:STANDARD
TZOFFSETFROM:+0200
TZOFFSETTO:+0100
TZNAME:CET
DTSTART:20261025T010000
END:STANDARD
BEGIN:DAYLIGHT
TZOFFSETFROM:+0100
TZOFFSETTO:+0200
TZNAME:CEST
DTSTART:20270328T010000
END:DAYLIGHT
BEGIN:STANDARD
TZOFFSETFROM:+0200
TZOFFSETTO:+0100
TZNAME:CET
DTSTART:20271031T010000
END:STANDARD
END:VTIMEZONE
BEGIN:VEVENT
DTSTART;TZID=Europe/Budapest:20260603T090000
DTEND;TZID=Europe/Budapest:20260603T170000
DTSTAMP:20260422T163600
CREATED:20260421T120253Z
LAST-MODIFIED:20260421T120912Z
UID:9962-1780477200-1780506000@eletvaltoztatoakademia.hu
SUMMARY:KRONOBIOLÓGIA TANÁCSADÓI TANFOLYAM-JÚNIUS 03.
DESCRIPTION:KRONÓSOK FIGYELEM!!!\nEmelj szintet!!! Spórolj időt!!! Fejlődj tovább!\nLegyél professzionális Kronobiológia Tanácsadó!\nMI VÁR RÁD?Rengeteg gyakorlás\, összeolvasás vár Rád\, de ami még fontosabb Tanácsadói Etikai és kommunikáció a karakterekhez!Szeretnéd tudni\, milyen karakternek hogyan mond el a tulajdonságait? Hogyan fogalmazz\, milyen eseteket mikor mesélj el?Hogyan tudod JÓL csinálni? Úgy\, hogy érthető\, lényegre törő legyél\, de nem okoskodó\, vagy tudálékos? Hogy a leghatékonyabban csináld?AKKOR JELENTKEZZ MOST RÖGTÖN!!! \nEzen a napon megismerheted még mélyebben a Kronobiológiát\, rengeteget gyakoroljuk az összeolvasást\, az eredmények közlésének formáját\, módját\, szóhasználatát a karakterek specifikációja szerint!Ha ismered a módszert annyira\, hogy már nem gondolkozol melyik számpár mit jelenthet\, és nálam az Élet Változtató Akadémiában tanultál\, akkor szeretettel várom a jelentkezésedet!Itt is van vizsga\, nem lazulunk!!! 1 nap ismét a tudásod gyarapításáért\, és az önbizalmad megerősítéséért! \n Helyszín: Élet Változtató Akadémia Időpont: 2026.06.03. | 09:00–17:00 Jelentkezés: andrea.eletvaltoztatoakademia@gmail.com \n\nSzeretettel várlak\,\nÉvi 
URL:https://eletvaltoztatoakademia.hu/esemenyek/kronobiologia-tanacsadoi-tanfolyam-junius-03/
LOCATION:Élet Változtató Akadémia\, Szép u. 5. 2/2.\, Budapest\, 1053
ATTACH;FMTTYPE=image/jpeg:https://eletvaltoztatoakademia.hu/wp-content/uploads/2026/04/krono-tanacsadoi.jpg
END:VEVENT
END:VCALENDAR